BEGIN:VCALENDAR
VERSION:2.0
PRODID:-//la Maison-Matrice - ECPv6.15.20//NONSGML v1.0//EN
CALSCALE:GREGORIAN
METHOD:PUBLISH
X-ORIGINAL-URL:https://maison-matrice.org
X-WR-CALDESC:Évènements pour la Maison-Matrice
REFRESH-INTERVAL;VALUE=DURATION:PT1H
X-Robots-Tag:noindex
X-PUBLISHED-TTL:PT1H
BEGIN:VTIMEZONE
TZID:Europe/Zurich
BEGIN:DAYLIGHT
TZOFFSETFROM:+0100
TZOFFSETTO:+0200
TZNAME:CEST
DTSTART:20210328T010000
END:DAYLIGHT
BEGIN:STANDARD
TZOFFSETFROM:+0200
TZOFFSETTO:+0100
TZNAME:CET
DTSTART:20211031T010000
END:STANDARD
BEGIN:DAYLIGHT
TZOFFSETFROM:+0100
TZOFFSETTO:+0200
TZNAME:CEST
DTSTART:20220327T010000
END:DAYLIGHT
BEGIN:STANDARD
TZOFFSETFROM:+0200
TZOFFSETTO:+0100
TZNAME:CET
DTSTART:20221030T010000
END:STANDARD
BEGIN:DAYLIGHT
TZOFFSETFROM:+0100
TZOFFSETTO:+0200
TZNAME:CEST
DTSTART:20230326T010000
END:DAYLIGHT
BEGIN:STANDARD
TZOFFSETFROM:+0200
TZOFFSETTO:+0100
TZNAME:CET
DTSTART:20231029T010000
END:STANDARD
END:VTIMEZONE
BEGIN:VEVENT
DTSTART;TZID=Europe/Zurich:20221103T180000
DTEND;TZID=Europe/Zurich:20221103T190000
DTSTAMP:20260421T222054
CREATED:20221012T223231Z
LAST-MODIFIED:20221013T173003Z
UID:10000842-1667498400-1667502000@maison-matrice.org
SUMMARY:Session de pratique de musique intensive
DESCRIPTION:Ces sessions sont animées par Maria Grand (http://mariakimgrand.com)et destinées aux musicien·ne·s professionnel·le·s. Ce sont des sessions d’environ une heure de pratique intensive\, qui sont également transmises sur Zoom à des personnes situées à distance. Ces sessions se passent les jeudis entre 18h et 19h et sont publiques; pour participer\, il faut avoir un background musical\, mais n’importe qui peut venir écouter. Les thèmes abordés en général sont le travail de l’oreille\, les transcriptions rapides\, l’analyse musicale\, et la manipulation du rythme en général (polyrythmes\, déplacements rythmiques\, etc). \n\n\n\n(tous les jeudis jusqu’à décembre)
URL:https://maison-matrice.org/event/session-de-pratique-de-musique-intensive/2022-11-03/
CATEGORIES:atelier
ATTACH;FMTTYPE=image/jpeg:https://maison-matrice.org/wp-content/uploads/2022/10/3f9f38_56cbd80e5c184ee5bc229a8162d9c681mv2_d_1483_2222_s_2.jpg
END:VEVENT
BEGIN:VEVENT
DTSTART;TZID=Europe/Zurich:20221110T180000
DTEND;TZID=Europe/Zurich:20221110T190000
DTSTAMP:20260421T222054
CREATED:20221012T223231Z
LAST-MODIFIED:20221013T173003Z
UID:10000843-1668103200-1668106800@maison-matrice.org
SUMMARY:Session de pratique de musique intensive
DESCRIPTION:Ces sessions sont animées par Maria Grand (http://mariakimgrand.com)et destinées aux musicien·ne·s professionnel·le·s. Ce sont des sessions d’environ une heure de pratique intensive\, qui sont également transmises sur Zoom à des personnes situées à distance. Ces sessions se passent les jeudis entre 18h et 19h et sont publiques; pour participer\, il faut avoir un background musical\, mais n’importe qui peut venir écouter. Les thèmes abordés en général sont le travail de l’oreille\, les transcriptions rapides\, l’analyse musicale\, et la manipulation du rythme en général (polyrythmes\, déplacements rythmiques\, etc). \n\n\n\n(tous les jeudis jusqu’à décembre)
URL:https://maison-matrice.org/event/session-de-pratique-de-musique-intensive/2022-11-10/
CATEGORIES:atelier
ATTACH;FMTTYPE=image/jpeg:https://maison-matrice.org/wp-content/uploads/2022/10/3f9f38_56cbd80e5c184ee5bc229a8162d9c681mv2_d_1483_2222_s_2.jpg
END:VEVENT
BEGIN:VEVENT
DTSTART;TZID=Europe/Zurich:20221112T150000
DTEND;TZID=Europe/Zurich:20221112T170000
DTSTAMP:20260421T222054
CREATED:20221012T224628Z
LAST-MODIFIED:20221014T055745Z
UID:10000849-1668265200-1668272400@maison-matrice.org
SUMMARY:ENFANTS - ATELIER - Improvisation et musique
DESCRIPTION:La musique est un art instinctif qui est donné à tout le monde. Les enfants sont naturellement créatifs. Ces ateliers se proposent de poser une structure simple pour créer une pièce musicale spontanée faite par et pour les enfants\, en leur rendant la pratique musicale comme étant une matière pratique (et non théorique)\, amusante\, et déchargeante\, leur donnant ainsi la possibilité de s’identifier au tangible (une pièce musicale composée par eux\, jouable et chantable à la maison) et à l’intangible (la possibilité de continuer à créer des pièces ayant trait à leurs activités\, émotions\, et leurs vies en général).
URL:https://maison-matrice.org/event/improvisation-et-musique-pour-enfants/
CATEGORIES:atelier
ATTACH;FMTTYPE=image/gif:https://maison-matrice.org/wp-content/uploads/2022/10/2648-decouvrez-les-chanteurs-pour-enfants.gif
END:VEVENT
BEGIN:VEVENT
DTSTART;TZID=Europe/Zurich:20221117T180000
DTEND;TZID=Europe/Zurich:20221117T190000
DTSTAMP:20260421T222054
CREATED:20221012T223231Z
LAST-MODIFIED:20221013T173003Z
UID:10000844-1668708000-1668711600@maison-matrice.org
SUMMARY:Session de pratique de musique intensive
DESCRIPTION:Ces sessions sont animées par Maria Grand (http://mariakimgrand.com)et destinées aux musicien·ne·s professionnel·le·s. Ce sont des sessions d’environ une heure de pratique intensive\, qui sont également transmises sur Zoom à des personnes situées à distance. Ces sessions se passent les jeudis entre 18h et 19h et sont publiques; pour participer\, il faut avoir un background musical\, mais n’importe qui peut venir écouter. Les thèmes abordés en général sont le travail de l’oreille\, les transcriptions rapides\, l’analyse musicale\, et la manipulation du rythme en général (polyrythmes\, déplacements rythmiques\, etc). \n\n\n\n(tous les jeudis jusqu’à décembre)
URL:https://maison-matrice.org/event/session-de-pratique-de-musique-intensive/2022-11-17/
CATEGORIES:atelier
ATTACH;FMTTYPE=image/jpeg:https://maison-matrice.org/wp-content/uploads/2022/10/3f9f38_56cbd80e5c184ee5bc229a8162d9c681mv2_d_1483_2222_s_2.jpg
END:VEVENT
BEGIN:VEVENT
DTSTART;TZID=Europe/Zurich:20221124T180000
DTEND;TZID=Europe/Zurich:20221124T190000
DTSTAMP:20260421T222055
CREATED:20221012T223231Z
LAST-MODIFIED:20221013T173003Z
UID:10000845-1669312800-1669316400@maison-matrice.org
SUMMARY:Session de pratique de musique intensive
DESCRIPTION:Ces sessions sont animées par Maria Grand (http://mariakimgrand.com)et destinées aux musicien·ne·s professionnel·le·s. Ce sont des sessions d’environ une heure de pratique intensive\, qui sont également transmises sur Zoom à des personnes situées à distance. Ces sessions se passent les jeudis entre 18h et 19h et sont publiques; pour participer\, il faut avoir un background musical\, mais n’importe qui peut venir écouter. Les thèmes abordés en général sont le travail de l’oreille\, les transcriptions rapides\, l’analyse musicale\, et la manipulation du rythme en général (polyrythmes\, déplacements rythmiques\, etc). \n\n\n\n(tous les jeudis jusqu’à décembre)
URL:https://maison-matrice.org/event/session-de-pratique-de-musique-intensive/2022-11-24/
CATEGORIES:atelier
ATTACH;FMTTYPE=image/jpeg:https://maison-matrice.org/wp-content/uploads/2022/10/3f9f38_56cbd80e5c184ee5bc229a8162d9c681mv2_d_1483_2222_s_2.jpg
END:VEVENT
END:VCALENDAR