BEGIN:VCALENDAR
VERSION:2.0
PRODID:-//la Maison-Matrice - ECPv6.15.20//NONSGML v1.0//EN
CALSCALE:GREGORIAN
METHOD:PUBLISH
X-WR-CALNAME:la Maison-Matrice
X-ORIGINAL-URL:https://maison-matrice.org
X-WR-CALDESC:Évènements pour la Maison-Matrice
REFRESH-INTERVAL;VALUE=DURATION:PT1H
X-Robots-Tag:noindex
X-PUBLISHED-TTL:PT1H
BEGIN:VTIMEZONE
TZID:Europe/Zurich
BEGIN:DAYLIGHT
TZOFFSETFROM:+0100
TZOFFSETTO:+0200
TZNAME:CEST
DTSTART:20260329T010000
END:DAYLIGHT
BEGIN:STANDARD
TZOFFSETFROM:+0200
TZOFFSETTO:+0100
TZNAME:CET
DTSTART:20261025T010000
END:STANDARD
BEGIN:DAYLIGHT
TZOFFSETFROM:+0100
TZOFFSETTO:+0200
TZNAME:CEST
DTSTART:20270328T010000
END:DAYLIGHT
BEGIN:STANDARD
TZOFFSETFROM:+0200
TZOFFSETTO:+0100
TZNAME:CET
DTSTART:20271031T010000
END:STANDARD
BEGIN:DAYLIGHT
TZOFFSETFROM:+0100
TZOFFSETTO:+0200
TZNAME:CEST
DTSTART:20280326T010000
END:DAYLIGHT
BEGIN:STANDARD
TZOFFSETFROM:+0200
TZOFFSETTO:+0100
TZNAME:CET
DTSTART:20281029T010000
END:STANDARD
END:VTIMEZONE
BEGIN:VEVENT
DTSTART;TZID=Europe/Zurich:20270906T183000
DTEND;TZID=Europe/Zurich:20270906T220000
DTSTAMP:20260420T104454
CREATED:20250603T055613Z
LAST-MODIFIED:20250603T055806Z
UID:10002684-1820255400-1820268000@maison-matrice.org
SUMMARY:Soirée Tartistique
DESCRIPTION:On mange des tartes et on dessine/bricole/papote à la Maison-Matrice
URL:https://maison-matrice.org/event/soiree-tartistique/2027-09-06/
CATEGORIES:atelier,talk-talk
ATTACH;FMTTYPE=image/jpeg:https://maison-matrice.org/wp-content/uploads/2025/06/WhatsApp-Image-2025-06-02-at-12.05.43.jpeg
END:VEVENT
BEGIN:VEVENT
DTSTART;TZID=Europe/Zurich:20270913T183000
DTEND;TZID=Europe/Zurich:20270913T220000
DTSTAMP:20260420T104454
CREATED:20250603T055613Z
LAST-MODIFIED:20250603T055806Z
UID:10002685-1820860200-1820872800@maison-matrice.org
SUMMARY:Soirée Tartistique
DESCRIPTION:On mange des tartes et on dessine/bricole/papote à la Maison-Matrice
URL:https://maison-matrice.org/event/soiree-tartistique/2027-09-13/
CATEGORIES:atelier,talk-talk
ATTACH;FMTTYPE=image/jpeg:https://maison-matrice.org/wp-content/uploads/2025/06/WhatsApp-Image-2025-06-02-at-12.05.43.jpeg
END:VEVENT
BEGIN:VEVENT
DTSTART;TZID=Europe/Zurich:20270920T183000
DTEND;TZID=Europe/Zurich:20270920T220000
DTSTAMP:20260420T104454
CREATED:20250603T055613Z
LAST-MODIFIED:20250603T055806Z
UID:10002686-1821465000-1821477600@maison-matrice.org
SUMMARY:Soirée Tartistique
DESCRIPTION:On mange des tartes et on dessine/bricole/papote à la Maison-Matrice
URL:https://maison-matrice.org/event/soiree-tartistique/2027-09-20/
CATEGORIES:atelier,talk-talk
ATTACH;FMTTYPE=image/jpeg:https://maison-matrice.org/wp-content/uploads/2025/06/WhatsApp-Image-2025-06-02-at-12.05.43.jpeg
END:VEVENT
BEGIN:VEVENT
DTSTART;TZID=Europe/Zurich:20270927T183000
DTEND;TZID=Europe/Zurich:20270927T220000
DTSTAMP:20260420T104454
CREATED:20250603T055613Z
LAST-MODIFIED:20250603T055806Z
UID:10002687-1822069800-1822082400@maison-matrice.org
SUMMARY:Soirée Tartistique
DESCRIPTION:On mange des tartes et on dessine/bricole/papote à la Maison-Matrice
URL:https://maison-matrice.org/event/soiree-tartistique/2027-09-27/
CATEGORIES:atelier,talk-talk
ATTACH;FMTTYPE=image/jpeg:https://maison-matrice.org/wp-content/uploads/2025/06/WhatsApp-Image-2025-06-02-at-12.05.43.jpeg
END:VEVENT
END:VCALENDAR