BEGIN:VCALENDAR
VERSION:2.0
PRODID:-//la Maison-Matrice - ECPv6.15.20//NONSGML v1.0//EN
CALSCALE:GREGORIAN
METHOD:PUBLISH
X-ORIGINAL-URL:https://maison-matrice.org
X-WR-CALDESC:Évènements pour la Maison-Matrice
REFRESH-INTERVAL;VALUE=DURATION:PT1H
X-Robots-Tag:noindex
X-PUBLISHED-TTL:PT1H
BEGIN:VTIMEZONE
TZID:Europe/Zurich
BEGIN:DAYLIGHT
TZOFFSETFROM:+0100
TZOFFSETTO:+0200
TZNAME:CEST
DTSTART:20210328T010000
END:DAYLIGHT
BEGIN:STANDARD
TZOFFSETFROM:+0200
TZOFFSETTO:+0100
TZNAME:CET
DTSTART:20211031T010000
END:STANDARD
BEGIN:DAYLIGHT
TZOFFSETFROM:+0100
TZOFFSETTO:+0200
TZNAME:CEST
DTSTART:20220327T010000
END:DAYLIGHT
BEGIN:STANDARD
TZOFFSETFROM:+0200
TZOFFSETTO:+0100
TZNAME:CET
DTSTART:20221030T010000
END:STANDARD
BEGIN:DAYLIGHT
TZOFFSETFROM:+0100
TZOFFSETTO:+0200
TZNAME:CEST
DTSTART:20230326T010000
END:DAYLIGHT
BEGIN:STANDARD
TZOFFSETFROM:+0200
TZOFFSETTO:+0100
TZNAME:CET
DTSTART:20231029T010000
END:STANDARD
END:VTIMEZONE
BEGIN:VEVENT
DTSTART;TZID=Europe/Zurich:20221025T090000
DTEND;TZID=Europe/Zurich:20221025T235959
DTSTAMP:20260422T080822
CREATED:20221013T203035Z
LAST-MODIFIED:20221014T063813Z
UID:10000867-1666688400-1666742399@maison-matrice.org
SUMMARY:Éclipse Solaire
DESCRIPTION:À dater de ce mardi 25 octobre 2022 nous accueillons des événements publics à la Maison-Matrice et pour marquer le coup nous avons pensé qu’une éclipse solaire ferait le plus bel effet!
URL:https://maison-matrice.org/event/fete-de-leclipse-solaire/
ATTACH;FMTTYPE=image/jpeg:https://maison-matrice.org/wp-content/uploads/2022/10/shutterstock_1490655321-nryzbvue30lpmtrkpeppyqilxuxrj9ab5z6l7ieoi0.jpg
END:VEVENT
BEGIN:VEVENT
DTSTART;TZID=Europe/Zurich:20221026T180000
DTEND;TZID=Europe/Zurich:20221026T233000
DTSTAMP:20260422T080822
CREATED:20221001T100004Z
LAST-MODIFIED:20221213T163338Z
UID:10000391-1666807200-1666827000@maison-matrice.org
SUMMARY:CLUB - Soirée jeux
DESCRIPTION:Convivialité: venez découvrir les 1500+ jeux de notre ludothèque.
URL:https://maison-matrice.org/event/soiree-jeux/2022-10-26/
CATEGORIES:club
ATTACH;FMTTYPE=image/png:https://maison-matrice.org/wp-content/uploads/2021/01/Bildschirmfoto-2021-01-09-um-7.47.14-PM.png
END:VEVENT
BEGIN:VEVENT
DTSTART;TZID=Europe/Zurich:20221027T180000
DTEND;TZID=Europe/Zurich:20221027T190000
DTSTAMP:20260422T080822
CREATED:20221012T223231Z
LAST-MODIFIED:20221013T173003Z
UID:10000841-1666893600-1666897200@maison-matrice.org
SUMMARY:Session de pratique de musique intensive
DESCRIPTION:Ces sessions sont animées par Maria Grand (http://mariakimgrand.com)et destinées aux musicien·ne·s professionnel·le·s. Ce sont des sessions d’environ une heure de pratique intensive\, qui sont également transmises sur Zoom à des personnes situées à distance. Ces sessions se passent les jeudis entre 18h et 19h et sont publiques; pour participer\, il faut avoir un background musical\, mais n’importe qui peut venir écouter. Les thèmes abordés en général sont le travail de l’oreille\, les transcriptions rapides\, l’analyse musicale\, et la manipulation du rythme en général (polyrythmes\, déplacements rythmiques\, etc). \n\n\n\n(tous les jeudis jusqu’à décembre)
URL:https://maison-matrice.org/event/session-de-pratique-de-musique-intensive/2022-10-27/
CATEGORIES:atelier
ATTACH;FMTTYPE=image/jpeg:https://maison-matrice.org/wp-content/uploads/2022/10/3f9f38_56cbd80e5c184ee5bc229a8162d9c681mv2_d_1483_2222_s_2.jpg
END:VEVENT
BEGIN:VEVENT
DTSTART;TZID=Europe/Zurich:20221028T200000
DTEND;TZID=Europe/Zurich:20221028T210000
DTSTAMP:20260422T080822
CREATED:20221012T222253Z
LAST-MODIFIED:20221016T111150Z
UID:10000838-1666987200-1666990800@maison-matrice.org
SUMMARY:CONCERT - Timnui (jazz)
DESCRIPTION:TIMNUI \n\n\n\nLa légende parle d’une foret mysterieuse. Un premier villageois s’y perds un soir d’automne\, un deuxième un soir d’hiver\, une troisième un soir de printemps et un quatrième un soir d’été. \n\n\n\nA la nuit tombée\, tous virent en haut d’un talus un arbre magique luminescent. Pour guider leur pas\, ils prirent chacun une branche brillante pour les conduire dans l’obscurité\, et retrouvèrent leur chemin. Arrivés chez eux\, ils eurent chacun l’idée de fabriquer un instrument de musique. Le premier façonne une clarinette\, le deuxième une guitare\, la troisième un violoncelle\, et le dernier une contrebasse. \n\n\n\nTous les soirs\, ils se réunissent auprès de l’arbre luminescent \, et jouent tant que la la lumière brille encore. C’est la fête\, et même dans le humus\, les vers dansent sous terre! \n\n\n\navec:Fédia Amice (guitare)Benjamin Fryde (clarinette)Latyr Boye (contrebasse)Lucie Göckel (violoncelle)
URL:https://maison-matrice.org/event/timnui/
CATEGORIES:concert
ATTACH;FMTTYPE=image/jpeg:https://maison-matrice.org/wp-content/uploads/2022/10/IMG_20221015_193321.jpg
END:VEVENT
BEGIN:VEVENT
DTSTART;TZID=Europe/Zurich:20221030T120000
DTEND;TZID=Europe/Zurich:20221030T120000
DTSTAMP:20260422T080822
CREATED:20221013T102335Z
LAST-MODIFIED:20221028T114033Z
UID:10000878-1667131200-1667131200@maison-matrice.org
SUMMARY:BRUNCH-CONCERT + Jam Session
DESCRIPTION:Le dernier dimanche du mois\, la Maison-Matrice présente un concert + jam + brunch. Les ensembles sont formés de résidents permanents et/ou temporaires. La jam qui suit le concert est ouverte à tous·tes. Amenez vos cafés + tartes.
URL:https://maison-matrice.org/event/concert-maison-matrice-jam/2022-10-30/
CATEGORIES:concert
ATTACH;FMTTYPE=image/jpeg:https://maison-matrice.org/wp-content/uploads/2022/10/maisonmatrice-diana-e1677672502406.jpeg
END:VEVENT
END:VCALENDAR