BEGIN:VCALENDAR
VERSION:2.0
PRODID:-//la Maison-Matrice - ECPv6.15.20//NONSGML v1.0//EN
CALSCALE:GREGORIAN
METHOD:PUBLISH
X-WR-CALNAME:la Maison-Matrice
X-ORIGINAL-URL:https://maison-matrice.org
X-WR-CALDESC:Évènements pour la Maison-Matrice
REFRESH-INTERVAL;VALUE=DURATION:PT1H
X-Robots-Tag:noindex
X-PUBLISHED-TTL:PT1H
BEGIN:VTIMEZONE
TZID:Europe/Zurich
BEGIN:DAYLIGHT
TZOFFSETFROM:+0100
TZOFFSETTO:+0200
TZNAME:CEST
DTSTART:20210328T010000
END:DAYLIGHT
BEGIN:STANDARD
TZOFFSETFROM:+0200
TZOFFSETTO:+0100
TZNAME:CET
DTSTART:20211031T010000
END:STANDARD
BEGIN:DAYLIGHT
TZOFFSETFROM:+0100
TZOFFSETTO:+0200
TZNAME:CEST
DTSTART:20220327T010000
END:DAYLIGHT
BEGIN:STANDARD
TZOFFSETFROM:+0200
TZOFFSETTO:+0100
TZNAME:CET
DTSTART:20221030T010000
END:STANDARD
BEGIN:DAYLIGHT
TZOFFSETFROM:+0100
TZOFFSETTO:+0200
TZNAME:CEST
DTSTART:20230326T010000
END:DAYLIGHT
BEGIN:STANDARD
TZOFFSETFROM:+0200
TZOFFSETTO:+0100
TZNAME:CET
DTSTART:20231029T010000
END:STANDARD
END:VTIMEZONE
BEGIN:VEVENT
DTSTART;TZID=Europe/Zurich:20221201T180000
DTEND;TZID=Europe/Zurich:20221201T190000
DTSTAMP:20260422T045551
CREATED:20221012T223231Z
LAST-MODIFIED:20221013T173003Z
UID:10000846-1669917600-1669921200@maison-matrice.org
SUMMARY:Session de pratique de musique intensive
DESCRIPTION:Ces sessions sont animées par Maria Grand (http://mariakimgrand.com)et destinées aux musicien·ne·s professionnel·le·s. Ce sont des sessions d’environ une heure de pratique intensive\, qui sont également transmises sur Zoom à des personnes situées à distance. Ces sessions se passent les jeudis entre 18h et 19h et sont publiques; pour participer\, il faut avoir un background musical\, mais n’importe qui peut venir écouter. Les thèmes abordés en général sont le travail de l’oreille\, les transcriptions rapides\, l’analyse musicale\, et la manipulation du rythme en général (polyrythmes\, déplacements rythmiques\, etc). \n\n\n\n(tous les jeudis jusqu’à décembre)
URL:https://maison-matrice.org/event/session-de-pratique-de-musique-intensive/2022-12-01/
CATEGORIES:atelier
ATTACH;FMTTYPE=image/jpeg:https://maison-matrice.org/wp-content/uploads/2022/10/3f9f38_56cbd80e5c184ee5bc229a8162d9c681mv2_d_1483_2222_s_2.jpg
END:VEVENT
BEGIN:VEVENT
DTSTART;TZID=Europe/Zurich:20221201T183000
DTEND;TZID=Europe/Zurich:20221201T210000
DTSTAMP:20260422T045551
CREATED:20221207T135716Z
LAST-MODIFIED:20221207T135741Z
UID:10001276-1669919400-1669928400@maison-matrice.org
SUMMARY:Crêpes à Marou
DESCRIPTION:Soirée Crêpes Sarrasin
URL:https://maison-matrice.org/event/crepes-a-marou-2/2022-12-01/
ATTACH;FMTTYPE=image/jpeg:https://maison-matrice.org/wp-content/uploads/2022/11/mecrepes.jpg
END:VEVENT
BEGIN:VEVENT
DTSTART;TZID=Europe/Zurich:20221207T180000
DTEND;TZID=Europe/Zurich:20221207T233000
DTSTAMP:20260422T045551
CREATED:20221001T100004Z
LAST-MODIFIED:20221213T163338Z
UID:10000397-1670436000-1670455800@maison-matrice.org
SUMMARY:CLUB - Soirée jeux
DESCRIPTION:Convivialité: venez découvrir les 1500+ jeux de notre ludothèque.
URL:https://maison-matrice.org/event/soiree-jeux/2022-12-07/
CATEGORIES:club
ATTACH;FMTTYPE=image/png:https://maison-matrice.org/wp-content/uploads/2021/01/Bildschirmfoto-2021-01-09-um-7.47.14-PM.png
END:VEVENT
BEGIN:VEVENT
DTSTART;TZID=Europe/Zurich:20221208T180000
DTEND;TZID=Europe/Zurich:20221208T190000
DTSTAMP:20260422T045551
CREATED:20221012T223231Z
LAST-MODIFIED:20221013T173003Z
UID:10000847-1670522400-1670526000@maison-matrice.org
SUMMARY:Session de pratique de musique intensive
DESCRIPTION:Ces sessions sont animées par Maria Grand (http://mariakimgrand.com)et destinées aux musicien·ne·s professionnel·le·s. Ce sont des sessions d’environ une heure de pratique intensive\, qui sont également transmises sur Zoom à des personnes situées à distance. Ces sessions se passent les jeudis entre 18h et 19h et sont publiques; pour participer\, il faut avoir un background musical\, mais n’importe qui peut venir écouter. Les thèmes abordés en général sont le travail de l’oreille\, les transcriptions rapides\, l’analyse musicale\, et la manipulation du rythme en général (polyrythmes\, déplacements rythmiques\, etc). \n\n\n\n(tous les jeudis jusqu’à décembre)
URL:https://maison-matrice.org/event/session-de-pratique-de-musique-intensive/2022-12-08/
CATEGORIES:atelier
ATTACH;FMTTYPE=image/jpeg:https://maison-matrice.org/wp-content/uploads/2022/10/3f9f38_56cbd80e5c184ee5bc229a8162d9c681mv2_d_1483_2222_s_2.jpg
END:VEVENT
BEGIN:VEVENT
DTSTART;TZID=Europe/Zurich:20221208T183000
DTEND;TZID=Europe/Zurich:20221208T210000
DTSTAMP:20260422T045551
CREATED:20221207T135716Z
LAST-MODIFIED:20221207T135741Z
UID:10001277-1670524200-1670533200@maison-matrice.org
SUMMARY:Crêpes à Marou
DESCRIPTION:Soirée Crêpes Sarrasin
URL:https://maison-matrice.org/event/crepes-a-marou-2/2022-12-08/
ATTACH;FMTTYPE=image/jpeg:https://maison-matrice.org/wp-content/uploads/2022/11/mecrepes.jpg
END:VEVENT
BEGIN:VEVENT
DTSTART;TZID=Europe/Zurich:20221209T200000
DTEND;TZID=Europe/Zurich:20221209T223000
DTSTAMP:20260422T045551
CREATED:20221013T201220Z
LAST-MODIFIED:20221207T135908Z
UID:10000652-1670616000-1670625000@maison-matrice.org
SUMMARY:CINÉ-MATRICE L'Age D'Or (Louis Bunuel-1930)￼
DESCRIPTION:Histoire de la communion totale mais éphémère de deux amants que séparent les conventions familiales et sociales et les interdits sexuels et religieux\, le film est une succession d’épisodes allégoriques teintés d’humour noir\, commençant par un documentaire sur les scorpions et s’achevant sur une transposition des Cent Vingt Journées de Sodome de Sade. \n\n\n\nLe scénario est le prétexte à des scènes blasphématoires dénonçant l’ordre bourgeois qui a provoqué la guerre : un aveugle maltraité\, un chien écrasé\, une bourgeoise giflée par un invité à cause d’une maladresse\, un enfant tué par son père à coup de fusil dans l’indifférence générale\, un évêque défenestré\, un ostensoir déposé sur le trottoir et frôlé par des chevilles féminines qui « font le trottoir »\, un violon dont on joue à coups de pieds\, le Christ\, vêtu d’une robe immaculée\, sortant d’une orgie.
URL:https://maison-matrice.org/event/cine-matrice-5/
CATEGORIES:cinéma
ATTACH;FMTTYPE=image/jpeg:https://maison-matrice.org/wp-content/uploads/2022/10/LAge_dOr.jpg
END:VEVENT
BEGIN:VEVENT
DTSTART;TZID=Europe/Zurich:20221210T200000
DTEND;TZID=Europe/Zurich:20221210T210000
DTSTAMP:20260422T045551
CREATED:20221015T201923Z
LAST-MODIFIED:20221207T134935Z
UID:10000873-1670702400-1670706000@maison-matrice.org
SUMMARY:CONCERT - NOBLIQUE (jazz contemporain)
DESCRIPTION:We don’t know if it was fate that guitarist Anna Kalk from Estonia\, bassist Ulysse Loup from Geneva and drummer Damien Kuntz from France met in Bern or if it was just pure chance. \n\n\n\nIn any case\, they improvised together and\, from the very first sessions\, they understood that they would continue together as a trio. Noblique combines different sound textures and is constantly searching for new sounds. \n\n\n\nNoblique started as a free improvisation trio\, yet quickly they found themselves developping an original repertoire. \n\n\n\nPassionate about new ways to explore their instruments\, and avant-garde music\, their musical landscape reaches from intimate hang-in-time moments to explosive merciless improvisations.
URL:https://maison-matrice.org/event/concert-ulysse-loup-4tet-jazz/
CATEGORIES:concert
ATTACH;FMTTYPE=image/jpeg:https://maison-matrice.org/wp-content/uploads/2022/12/noblique.jpg
END:VEVENT
BEGIN:VEVENT
DTSTART;TZID=Europe/Zurich:20221214T180000
DTEND;TZID=Europe/Zurich:20221214T233000
DTSTAMP:20260422T045551
CREATED:20221001T100004Z
LAST-MODIFIED:20221213T163338Z
UID:10000398-1671040800-1671060600@maison-matrice.org
SUMMARY:CLUB - Soirée jeux
DESCRIPTION:Convivialité: venez découvrir les 1500+ jeux de notre ludothèque.
URL:https://maison-matrice.org/event/soiree-jeux/2022-12-14/
CATEGORIES:club
ATTACH;FMTTYPE=image/png:https://maison-matrice.org/wp-content/uploads/2021/01/Bildschirmfoto-2021-01-09-um-7.47.14-PM.png
END:VEVENT
BEGIN:VEVENT
DTSTART;TZID=Europe/Zurich:20221215T140000
DTEND;TZID=Europe/Zurich:20221215T163000
DTSTAMP:20260422T045551
CREATED:20221015T203020Z
LAST-MODIFIED:20221207T140336Z
UID:10000874-1671112800-1671121800@maison-matrice.org
SUMMARY:ATELIER (pour adultes)- Fabrication artisanale de savons
DESCRIPTION:Attention\, cadeau de Noël personnel et original! Réalisez vos propres savons pour les offrir à vos amis et à vos proches!
URL:https://maison-matrice.org/event/atelier-fabrication-artisanale-de-savons/
ATTACH;FMTTYPE=image/jpeg:https://maison-matrice.org/wp-content/uploads/2022/10/savon-artisanal-1.jpeg
END:VEVENT
BEGIN:VEVENT
DTSTART;TZID=Europe/Zurich:20221215T180000
DTEND;TZID=Europe/Zurich:20221215T190000
DTSTAMP:20260422T045551
CREATED:20221012T223231Z
LAST-MODIFIED:20221013T173003Z
UID:10000848-1671127200-1671130800@maison-matrice.org
SUMMARY:Session de pratique de musique intensive
DESCRIPTION:Ces sessions sont animées par Maria Grand (http://mariakimgrand.com)et destinées aux musicien·ne·s professionnel·le·s. Ce sont des sessions d’environ une heure de pratique intensive\, qui sont également transmises sur Zoom à des personnes situées à distance. Ces sessions se passent les jeudis entre 18h et 19h et sont publiques; pour participer\, il faut avoir un background musical\, mais n’importe qui peut venir écouter. Les thèmes abordés en général sont le travail de l’oreille\, les transcriptions rapides\, l’analyse musicale\, et la manipulation du rythme en général (polyrythmes\, déplacements rythmiques\, etc). \n\n\n\n(tous les jeudis jusqu’à décembre)
URL:https://maison-matrice.org/event/session-de-pratique-de-musique-intensive/2022-12-15/
CATEGORIES:atelier
ATTACH;FMTTYPE=image/jpeg:https://maison-matrice.org/wp-content/uploads/2022/10/3f9f38_56cbd80e5c184ee5bc229a8162d9c681mv2_d_1483_2222_s_2.jpg
END:VEVENT
BEGIN:VEVENT
DTSTART;TZID=Europe/Zurich:20221216T133000
DTEND;TZID=Europe/Zurich:20221216T163000
DTSTAMP:20260422T045551
CREATED:20221013T233519Z
LAST-MODIFIED:20221124T140502Z
UID:10000868-1671197400-1671208200@maison-matrice.org
SUMMARY:ENFANTS - ATELIER - Manufacture de papier recyclé
DESCRIPTION:A partir de divers papier usagés\, avec quelques bassines\, des cadres à papier\, des feutres\,  des enfants découvrent et pratiquent une technique ancestrale pour réaliser une nouvelle feuille de papier\, à partir de déchets de papiers. \n\n\n\nObjectifs de l’atelier \n\n\n\n– avec l’exemple concret du papier\, sensibiliser les enfants au recyclage des matières premières\, \n\n\n\n– réaliser des feuilles de papier artisanalement\, \n\n\n\n– apprendre et comprendre la nature du papier.
URL:https://maison-matrice.org/event/atelier-manufacture-de-papier-recycle/
CATEGORIES:atelier,enfants
ATTACH;FMTTYPE=image/jpeg:https://maison-matrice.org/wp-content/uploads/2022/10/DSCN1022-scaled.jpg
END:VEVENT
BEGIN:VEVENT
DTSTART;TZID=Europe/Zurich:20221216T170000
DTEND;TZID=Europe/Zurich:20221216T193000
DTSTAMP:20260422T045551
CREATED:20221014T062634Z
LAST-MODIFIED:20221207T141421Z
UID:10000871-1671210000-1671219000@maison-matrice.org
SUMMARY:CONFÉRENCE/DÉBAT -  L'entreprenariat artistique au sein du néo-libéralisme\, par Antoine Humberset
DESCRIPTION:Présentation suivie d’une discussion ouverte sur le thème de la thèse de MA d’Antoine Humberset\, musicien professionnel et constructeur de voilier. On questionne le positionnement idéologique de l’activité artistique dans le contexte du néolibéralisme. \n\n\n\n \n\n\n\n\n\n\n\nPour un artiste\, gagner sa vie dans la surproduction culturelle passe à priori par l’utilisation sans trop d’arrières pensées des outils et codes mis à disposition par le marché. La vitesse de production et le renouvellement constant offrent une place aux plus présents. \n\n\n\nMais la reconnaissance sociale est-elle liée à l’ultra-présence de visibilité où à la cohérence du projet ?  \n\n\n\nAntoine Humberset est musicien\, compositeur et constructeur de bateaux. Pour sa thèse de Master en Jazz et Composition\, il questionne les pratiques entrepreneuriales des musiciens d’aujourd’hui.
URL:https://maison-matrice.org/event/conference-lentreprenariat-artistique-au-sein-du-neo-liberalisme-par-antoine-humberset/
CATEGORIES:talk-talk
ATTACH;FMTTYPE=image/jpeg:https://maison-matrice.org/wp-content/uploads/2022/10/Sourire_Antoine.jpg
END:VEVENT
BEGIN:VEVENT
DTSTART;TZID=Europe/Zurich:20221218T160000
DTEND;TZID=Europe/Zurich:20221218T170000
DTSTAMP:20260422T045551
CREATED:20221213T160430Z
LAST-MODIFIED:20221213T162907Z
UID:10001278-1671379200-1671382800@maison-matrice.org
SUMMARY:Morjane Ténéré
DESCRIPTION:Live folk
URL:https://maison-matrice.org/event/morjane-tenere/
CATEGORIES:concert
ATTACH;FMTTYPE=image/jpeg:https://maison-matrice.org/wp-content/uploads/2022/12/morjane-tenere.jpg
END:VEVENT
BEGIN:VEVENT
DTSTART;TZID=Europe/Zurich:20221221T180000
DTEND;TZID=Europe/Zurich:20221221T233000
DTSTAMP:20260422T045551
CREATED:20221001T100004Z
LAST-MODIFIED:20221213T163338Z
UID:10000399-1671645600-1671665400@maison-matrice.org
SUMMARY:CLUB - Soirée jeux
DESCRIPTION:Convivialité: venez découvrir les 1500+ jeux de notre ludothèque.
URL:https://maison-matrice.org/event/soiree-jeux/2022-12-21/
CATEGORIES:club
ATTACH;FMTTYPE=image/png:https://maison-matrice.org/wp-content/uploads/2021/01/Bildschirmfoto-2021-01-09-um-7.47.14-PM.png
END:VEVENT
BEGIN:VEVENT
DTSTART;TZID=Europe/Zurich:20221223T200000
DTEND;TZID=Europe/Zurich:20221223T223000
DTSTAMP:20260422T045551
CREATED:20221013T195848Z
LAST-MODIFIED:20221207T140514Z
UID:10000651-1671825600-1671834600@maison-matrice.org
SUMMARY:CINÉ-MATRICE A nous la liberte (1931 – Rene Clair)
DESCRIPTION:Deux amis détenus\, Émile et Louis\, tentent de s’évader. Louis réussit grâce à Émile qui fait diversion. Dehors\, Louis se lance dans le commerce de disques puis de phonographes. Il devient petit patron puis\, son commerce prospérant\, se retrouve à la tête d’usines de plus en plus gigantesques.  \n\n\n\nÉmile libéré de prison demeure vagabond\, se prélasse au soleil. Un jour il aperçoit la nièce du comptable de l’usine de Louis et tombe amoureux de la jeune fille. Il la suit jusque dans l’usine et\, presque malgré lui\, est embauché. Les deux anciens amis se retrouvent…
URL:https://maison-matrice.org/event/cine-matrice-4/
CATEGORIES:cinéma
ATTACH;FMTTYPE=image/jpeg:https://maison-matrice.org/wp-content/uploads/2022/10/A-nous-la-liberte-poster.jpg
END:VEVENT
BEGIN:VEVENT
DTSTART;TZID=Europe/Zurich:20221225T120000
DTEND;TZID=Europe/Zurich:20221225T120000
DTSTAMP:20260422T045551
CREATED:20221013T102335Z
LAST-MODIFIED:20221028T114033Z
UID:10000880-1671969600-1671969600@maison-matrice.org
SUMMARY:BRUNCH-CONCERT + Jam Session
DESCRIPTION:Le dernier dimanche du mois\, la Maison-Matrice présente un concert + jam + brunch. Les ensembles sont formés de résidents permanents et/ou temporaires. La jam qui suit le concert est ouverte à tous·tes. Amenez vos cafés + tartes.
URL:https://maison-matrice.org/event/concert-maison-matrice-jam/2022-12-25/
CATEGORIES:concert
ATTACH;FMTTYPE=image/jpeg:https://maison-matrice.org/wp-content/uploads/2022/10/maisonmatrice-diana-e1677672502406.jpeg
END:VEVENT
BEGIN:VEVENT
DTSTART;TZID=Europe/Zurich:20221228T180000
DTEND;TZID=Europe/Zurich:20221228T233000
DTSTAMP:20260422T045551
CREATED:20221001T100004Z
LAST-MODIFIED:20221213T163338Z
UID:10000400-1672250400-1672270200@maison-matrice.org
SUMMARY:CLUB - Soirée jeux
DESCRIPTION:Convivialité: venez découvrir les 1500+ jeux de notre ludothèque.
URL:https://maison-matrice.org/event/soiree-jeux/2022-12-28/
CATEGORIES:club
ATTACH;FMTTYPE=image/png:https://maison-matrice.org/wp-content/uploads/2021/01/Bildschirmfoto-2021-01-09-um-7.47.14-PM.png
END:VEVENT
BEGIN:VEVENT
DTSTART;TZID=Europe/Zurich:20221230T200000
DTEND;TZID=Europe/Zurich:20221230T210000
DTSTAMP:20260422T045551
CREATED:20221017T171442Z
LAST-MODIFIED:20221021T121811Z
UID:10000877-1672430400-1672434000@maison-matrice.org
SUMMARY:CONCERT de fin d'année - Cablesalad
DESCRIPTION:En résidence à laMaison-Matrice pour la dernière semaine de l’année\, les musiciens de Cablesalad nous égaieront avec leurs dernières compositions…
URL:https://maison-matrice.org/event/concert-de-fin-dannee-cablesalad/
CATEGORIES:concert
ATTACH;FMTTYPE=image/jpeg:https://maison-matrice.org/wp-content/uploads/2022/10/CS_Bandfoto2-scaled.jpeg
END:VEVENT
END:VCALENDAR