BEGIN:VCALENDAR
VERSION:2.0
PRODID:-//la Maison-Matrice - ECPv6.15.20//NONSGML v1.0//EN
CALSCALE:GREGORIAN
METHOD:PUBLISH
X-WR-CALNAME:la Maison-Matrice
X-ORIGINAL-URL:https://maison-matrice.org
X-WR-CALDESC:Évènements pour la Maison-Matrice
REFRESH-INTERVAL;VALUE=DURATION:PT1H
X-Robots-Tag:noindex
X-PUBLISHED-TTL:PT1H
BEGIN:VTIMEZONE
TZID:Europe/Zurich
BEGIN:DAYLIGHT
TZOFFSETFROM:+0100
TZOFFSETTO:+0200
TZNAME:CEST
DTSTART:20220327T010000
END:DAYLIGHT
BEGIN:STANDARD
TZOFFSETFROM:+0200
TZOFFSETTO:+0100
TZNAME:CET
DTSTART:20221030T010000
END:STANDARD
BEGIN:DAYLIGHT
TZOFFSETFROM:+0100
TZOFFSETTO:+0200
TZNAME:CEST
DTSTART:20230326T010000
END:DAYLIGHT
BEGIN:STANDARD
TZOFFSETFROM:+0200
TZOFFSETTO:+0100
TZNAME:CET
DTSTART:20231029T010000
END:STANDARD
BEGIN:DAYLIGHT
TZOFFSETFROM:+0100
TZOFFSETTO:+0200
TZNAME:CEST
DTSTART:20240331T010000
END:DAYLIGHT
BEGIN:STANDARD
TZOFFSETFROM:+0200
TZOFFSETTO:+0100
TZNAME:CET
DTSTART:20241027T010000
END:STANDARD
END:VTIMEZONE
BEGIN:VEVENT
DTSTART;TZID=Europe/Zurich:20230405T190000
DTEND;TZID=Europe/Zurich:20230405T200000
DTSTAMP:20260423T105253
CREATED:20230401T151146Z
LAST-MODIFIED:20230402T064013Z
UID:10001466-1680721200-1680724800@maison-matrice.org
SUMMARY:CONCERT : Kate Birch
DESCRIPTION:The music of Kate Birch is a sphere in which all beings exist peacefully next to each other. \n\n\n\nhttps://katebirch.com/
URL:https://maison-matrice.org/event/concert-kate-birch/
CATEGORIES:concert
ATTACH;FMTTYPE=image/jpeg:https://maison-matrice.org/wp-content/uploads/2023/04/kateb.jpeg
END:VEVENT
BEGIN:VEVENT
DTSTART;TZID=Europe/Zurich:20230405T200000
DTEND;TZID=Europe/Zurich:20230405T210000
DTSTAMP:20260423T105253
CREATED:20230402T140626Z
LAST-MODIFIED:20230402T171516Z
UID:10001747-1680724800-1680728400@maison-matrice.org
SUMMARY:Le héron philosophe
DESCRIPTION:Soirée de discussion sur un thème choisi sur place par les participant·e·s et suivant le protocole des Café-Philo http://cafesphilo.org \n\n\n\nCollation en mode repas canadien: amenez ce qu’il vous ferait plaisir de partager.
URL:https://maison-matrice.org/event/le-heron-philosophe/
CATEGORIES:talk-talk
ATTACH;FMTTYPE=image/jpeg:https://maison-matrice.org/wp-content/uploads/2023/04/heron-philosophe.jpg
END:VEVENT
BEGIN:VEVENT
DTSTART;TZID=Europe/Zurich:20230406T180000
DTEND;TZID=Europe/Zurich:20230406T233000
DTSTAMP:20260423T105253
CREATED:20230402T063443Z
LAST-MODIFIED:20230402T122147Z
UID:10000414-1680804000-1680823800@maison-matrice.org
SUMMARY:CLUB - Soirée jeux
DESCRIPTION:Convivialité: venez découvrir les 1500+ jeux de notre ludothèque.
URL:https://maison-matrice.org/event/club-soiree-jeux/
CATEGORIES:club
ATTACH;FMTTYPE=image/png:https://maison-matrice.org/wp-content/uploads/2021/01/Bildschirmfoto-2021-01-09-um-7.47.14-PM.png
END:VEVENT
BEGIN:VEVENT
DTSTART;TZID=Europe/Zurich:20230407T000000
DTEND;TZID=Europe/Zurich:20230409T235959
DTSTAMP:20260423T105253
CREATED:20230402T074558Z
LAST-MODIFIED:20230402T131728Z
UID:10001484-1680825600-1681084799@maison-matrice.org
SUMMARY:Pomponnage de printemps
DESCRIPTION:La Maison-Matrice a besoin de quelques mains et têtes motivées le week-end du 7-8-9 avril (oui\, le week-end de Pâques) pour se réunir avec l’objectif suivant : rendre la Maison toute belle\, mieux ordrée\, organisée et accueillante\, afin de faciliter et d’améliorer son accès pour l’usage de tousxtes. \n\n\n\nAu programme :  \n\n\n\n\nOn sort les tabliers et les pots de peinture pour améliorer la signalétique et permettre aux personnes une meilleure prise en main de l’outil ou pour noter une jolie phrase sur un mur\n\n\n\n\n\nOn se retrousse les manches pour ranger\, fixer des étagères\, nettoyer et faire un peu de tri pour que la Maison respire mieux <3\n\n\n\n\n\nOn réfléchit ensemble à des améliorations de toute nature dans les espaces\, le matériel\, et leur accessibilité.\n\n\n\n\n\nEn gros\, donner de l’amour à la Maison et en profiter pour fêter un peu le début du printemps 🙂\n\n\n\n\nFais nous signe si ça te parle (info@maison-matrice.org) et on se fera une joie de t’accueillir et de te réserver un lit si tu souhaites dormir sur place.  \n\n\n\nDu love\,  \n\n\n\nLa team Maison-Matrice
URL:https://maison-matrice.org/event/pomponnage-de-printemps/
END:VEVENT
BEGIN:VEVENT
DTSTART;TZID=Europe/Zurich:20230409T170000
DTEND;TZID=Europe/Zurich:20230409T173000
DTSTAMP:20260423T105253
CREATED:20230402T135208Z
LAST-MODIFIED:20230402T135947Z
UID:10001746-1681059600-1681061400@maison-matrice.org
SUMMARY:Soraya Berent
DESCRIPTION:Soraya Berent est chanteuse\, en résidence à la Maison-Matrice. Elle nous offre un set surprise entre musique actuelle et jazz !
URL:https://maison-matrice.org/event/soraya-berent/
CATEGORIES:concert
ATTACH;FMTTYPE=image/jpeg:https://maison-matrice.org/wp-content/uploads/2023/04/pqbsz5-26085547.jpg
END:VEVENT
BEGIN:VEVENT
DTSTART;TZID=Europe/Zurich:20230412T190000
DTEND;TZID=Europe/Zurich:20230412T210000
DTSTAMP:20260423T105253
CREATED:20230402T190149Z
LAST-MODIFIED:20230403T072021Z
UID:10002008-1681326000-1681333200@maison-matrice.org
SUMMARY:Le héron curieux : les bases de l'océanographie
DESCRIPTION:Le héron curieux:La soirée démarre à 19h00 avec un exposé des bases de l’océanographie par Océanne Himmighofen\, océanologue et actuellement en résidence à la Maison-Matrice. Le héron philosophe:Dès 20h00\, la soirée se poursuit avec notre Café-Philo hebdomadaire. Le thème abordé est choisi sur place par les participant·e·s  suivant le protocole des Café-Philo http://cafesphilo.org \n\n\n\nCollation en mode repas canadien: amenez ce qu’il vous ferait plaisir de partager.
URL:https://maison-matrice.org/event/le-heron-curieux-le-heron-philosophe/
CATEGORIES:talk-talk
ATTACH;FMTTYPE=image/jpeg:https://maison-matrice.org/wp-content/uploads/2023/04/heron-philosophe.jpg
END:VEVENT
BEGIN:VEVENT
DTSTART;TZID=Europe/Zurich:20230413T180000
DTEND;TZID=Europe/Zurich:20230413T233000
DTSTAMP:20260423T105253
CREATED:20230402T064110Z
LAST-MODIFIED:20230402T122234Z
UID:10000415-1681408800-1681428600@maison-matrice.org
SUMMARY:CLUB - Soirée jeux
DESCRIPTION:Convivialité: venez découvrir les 1500+ jeux de notre ludothèque.
URL:https://maison-matrice.org/event/club-soiree-jeux-2/
CATEGORIES:club
ATTACH;FMTTYPE=image/png:https://maison-matrice.org/wp-content/uploads/2021/01/Bildschirmfoto-2021-01-09-um-7.47.14-PM.png
END:VEVENT
BEGIN:VEVENT
DTSTART;TZID=Europe/Zurich:20230416T150000
DTEND;TZID=Europe/Zurich:20230416T180000
DTSTAMP:20260423T105253
CREATED:20230402T064747Z
LAST-MODIFIED:20230402T121542Z
UID:10000784-1681657200-1681668000@maison-matrice.org
SUMMARY:CLUB - couture
DESCRIPTION:Un doux dimanche après-midi où l’on papote\, on boit le thé et on confectionne nos plus belles créations de couture. Du matériel de couture de base est à disposition\, mais le votre est également bienvenu. Pour de grands projets ou pour le raccommodage de la poche de votre plus beau sac\, le club de couture a lieu tous les derniers dimanches du mois à la Maison-Matrice.
URL:https://maison-matrice.org/event/club-couture/
CATEGORIES:club
ATTACH;FMTTYPE=image/jpeg:https://maison-matrice.org/wp-content/uploads/2022/10/fond-machine-coudre-coussin-aiguilles-illustration-realiste-centimetre_1284-62714.jpg
END:VEVENT
BEGIN:VEVENT
DTSTART;TZID=Europe/Zurich:20230419T190000
DTEND;TZID=Europe/Zurich:20230419T210000
DTSTAMP:20260423T105253
CREATED:20230403T065234Z
LAST-MODIFIED:20230403T072100Z
UID:10002009-1681930800-1681938000@maison-matrice.org
SUMMARY:Le héron curieux : les bases de la logique formelle 1/4
DESCRIPTION:Le héron curieux:Première d’une série de quatre sessions dédiées à la logique formelle et présentées par Malcolm Braff\, résident à la Maison-Matrice . \n\n\n\nDu syllogisme d’Aristote à l’algèbre de Boole\, la logique est tout d’abord une des disciplines principales de la philosophie. Elle a pour but l’étude du raisonnement: Quelles sont les conditions d’un raisonnement juste? Quelles sont les règles formelles d’une argumentation correcte?  \n\n\n\nLa logique formelle est aujourd’hui indissociable de la pensée mathématique (la démonstration) et trouve une application quotidienne dans des domaines autant indispensables que variés: la communication\, le droit\, l’informatique\, la politique…Le héron philosophe:Dès 20h00\, la soirée se poursuit avec notre Café-Philo hebdomadaire. Le thème abordé est choisi sur place par les participant·e·s  suivant le protocole des Café-Philo http://cafesphilo.org \n\n\n\nCollation en mode repas canadien: amenez ce qu’il vous ferait plaisir de partager.
URL:https://maison-matrice.org/event/le-heron-curieux-les-bases-de-la-logique-formelle-1-4/
CATEGORIES:talk-talk
ATTACH;FMTTYPE=image/jpeg:https://maison-matrice.org/wp-content/uploads/2023/04/heron-philosophe.jpg
END:VEVENT
BEGIN:VEVENT
DTSTART;TZID=Europe/Zurich:20230420T180000
DTEND;TZID=Europe/Zurich:20230420T233000
DTSTAMP:20260423T105253
CREATED:20230402T064154Z
LAST-MODIFIED:20230402T122420Z
UID:10000416-1682013600-1682033400@maison-matrice.org
SUMMARY:CLUB - Soirée jeux
DESCRIPTION:Convivialité: venez découvrir les 1500+ jeux de notre ludothèque.
URL:https://maison-matrice.org/event/club-soiree-jeux-3/
CATEGORIES:club
ATTACH;FMTTYPE=image/png:https://maison-matrice.org/wp-content/uploads/2021/01/Bildschirmfoto-2021-01-09-um-7.47.14-PM.png
END:VEVENT
BEGIN:VEVENT
DTSTART;TZID=Europe/Zurich:20230423T120000
DTEND;TZID=Europe/Zurich:20230423T120000
DTSTAMP:20260423T105253
CREATED:20230402T072503Z
LAST-MODIFIED:20230402T121847Z
UID:10000884-1682251200-1682251200@maison-matrice.org
SUMMARY:BRUNCH-CONCERT + Jam Session
DESCRIPTION:Le dernier dimanche du mois\, la Maison-Matrice présente un concert + jam + brunch. Les ensembles sont formés de résidents permanents et/ou temporaires. La jam qui suit le concert est ouverte à tous·tes. Amenez vos cafés + tartes.
URL:https://maison-matrice.org/event/brunch-concert-jam-session/
CATEGORIES:concert
ATTACH;FMTTYPE=image/jpeg:https://maison-matrice.org/wp-content/uploads/2022/10/maisonmatrice-diana-e1677672502406.jpeg
END:VEVENT
BEGIN:VEVENT
DTSTART;TZID=Europe/Zurich:20230426T190000
DTEND;TZID=Europe/Zurich:20230426T210000
DTSTAMP:20260423T105253
CREATED:20230403T065341Z
LAST-MODIFIED:20230403T072147Z
UID:10002010-1682535600-1682542800@maison-matrice.org
SUMMARY:Le héron curieux : les bases de la logique formelle 2/4
DESCRIPTION:Le héron curieux:Deuxième d’une série de quatre sessions dédiées à la logique formelle et présentées par Malcolm Braff\, résident à la Maison-Matrice . \n\n\n\nDu syllogisme d’Aristote à l’algèbre de Boole\, la logique est tout d’abord une des disciplines principales de la philosophie. Elle a pour but l’étude du raisonnement: Quelles sont les conditions d’un raisonnement juste? Quelles sont les règles formelles d’une argumentation correcte?  \n\n\n\nLa logique formelle est aujourd’hui indissociable de la pensée mathématique (la démonstration) et trouve une application quotidienne dans des domaines autant indispensables que variés: la communication\, le droit\, l’informatique\, la politique…Le héron philosophe:Dès 20h00\, la soirée se poursuit avec notre Café-Philo hebdomadaire. Le thème abordé est choisi sur place par les participant·e·s  suivant le protocole des Café-Philo http://cafesphilo.org \n\n\n\nCollation en mode repas canadien: amenez ce qu’il vous ferait plaisir de partager.
URL:https://maison-matrice.org/event/le-heron-curieux-les-bases-de-la-logique-formelle-2-4/
CATEGORIES:talk-talk
ATTACH;FMTTYPE=image/jpeg:https://maison-matrice.org/wp-content/uploads/2023/04/heron-philosophe.jpg
END:VEVENT
BEGIN:VEVENT
DTSTART;TZID=Europe/Zurich:20230427T180000
DTEND;TZID=Europe/Zurich:20230427T233000
DTSTAMP:20260423T105253
CREATED:20230402T064357Z
LAST-MODIFIED:20230403T072558Z
UID:10000417-1682618400-1682638200@maison-matrice.org
SUMMARY:CLUB - Soirée jeux
DESCRIPTION:Convivialité: venez découvrir les 1500+ jeux de notre ludothèque.
URL:https://maison-matrice.org/event/club-soiree-jeux-4/
CATEGORIES:club
ATTACH;FMTTYPE=image/png:https://maison-matrice.org/wp-content/uploads/2021/01/Bildschirmfoto-2021-01-09-um-7.47.14-PM.png
END:VEVENT
BEGIN:VEVENT
DTSTART;TZID=Europe/Zurich:20230427T190000
DTEND;TZID=Europe/Zurich:20230427T200000
DTSTAMP:20260423T105253
CREATED:20230202T192238Z
LAST-MODIFIED:20230402T064918Z
UID:10001451-1682622000-1682625600@maison-matrice.org
SUMMARY:CONCERT / PRÉSENTATION : Citron Citron
DESCRIPTION:En résidence à la Maison-Matrice\, Citron Citron nous présenteront une partie de leur travail en cours sous forme de petit concert et/ou session d’écoute. \n\n\n\n« Sister and brother analog poetry laying on finely crafted rhythms & melodies. Think about Brigitte Fontaine singing with Woo. » \n\n\n\nCitron Citron :InstagramBandcamp
URL:https://maison-matrice.org/event/concert-presentation-citron-citron/
CATEGORIES:concert
ATTACH;FMTTYPE=image/jpeg:https://maison-matrice.org/wp-content/uploads/2023/02/citron.jpeg
END:VEVENT
END:VCALENDAR