BEGIN:VCALENDAR
VERSION:2.0
PRODID:-//la Maison-Matrice - ECPv6.15.20//NONSGML v1.0//EN
CALSCALE:GREGORIAN
METHOD:PUBLISH
X-WR-CALNAME:la Maison-Matrice
X-ORIGINAL-URL:https://maison-matrice.org
X-WR-CALDESC:Évènements pour la Maison-Matrice
REFRESH-INTERVAL;VALUE=DURATION:PT1H
X-Robots-Tag:noindex
X-PUBLISHED-TTL:PT1H
BEGIN:VTIMEZONE
TZID:Europe/Zurich
BEGIN:DAYLIGHT
TZOFFSETFROM:+0100
TZOFFSETTO:+0200
TZNAME:CEST
DTSTART:20280326T010000
END:DAYLIGHT
BEGIN:STANDARD
TZOFFSETFROM:+0200
TZOFFSETTO:+0100
TZNAME:CET
DTSTART:20281029T010000
END:STANDARD
BEGIN:DAYLIGHT
TZOFFSETFROM:+0100
TZOFFSETTO:+0200
TZNAME:CEST
DTSTART:20290325T010000
END:DAYLIGHT
BEGIN:STANDARD
TZOFFSETFROM:+0200
TZOFFSETTO:+0100
TZNAME:CET
DTSTART:20291028T010000
END:STANDARD
BEGIN:DAYLIGHT
TZOFFSETFROM:+0100
TZOFFSETTO:+0200
TZNAME:CEST
DTSTART:20300331T010000
END:DAYLIGHT
BEGIN:STANDARD
TZOFFSETFROM:+0200
TZOFFSETTO:+0100
TZNAME:CET
DTSTART:20301027T010000
END:STANDARD
END:VTIMEZONE
BEGIN:VEVENT
DTSTART;TZID=Europe/Zurich:20290802T183000
DTEND;TZID=Europe/Zurich:20290802T220000
DTSTAMP:20260421T151533
CREATED:20250529T185554Z
LAST-MODIFIED:20250603T055139Z
UID:10002514-1880389800-1880402400@maison-matrice.org
SUMMARY:Karaocrêpes
DESCRIPTION:Soirée Crêpes Sarrasin + Karaoke
URL:https://maison-matrice.org/event/karaocrepes/2029-08-02/
ATTACH;FMTTYPE=image/jpeg:https://maison-matrice.org/wp-content/uploads/2025/05/PHOTO-2025-06-02-12-04-58-e1748929851282.jpg
END:VEVENT
BEGIN:VEVENT
DTSTART;TZID=Europe/Zurich:20290806T183000
DTEND;TZID=Europe/Zurich:20290806T220000
DTSTAMP:20260421T151533
CREATED:20250603T055613Z
LAST-MODIFIED:20250603T055806Z
UID:10002784-1880735400-1880748000@maison-matrice.org
SUMMARY:Soirée Tartistique
DESCRIPTION:On mange des tartes et on dessine/bricole/papote à la Maison-Matrice
URL:https://maison-matrice.org/event/soiree-tartistique/2029-08-06/
CATEGORIES:atelier,talk-talk
ATTACH;FMTTYPE=image/jpeg:https://maison-matrice.org/wp-content/uploads/2025/06/WhatsApp-Image-2025-06-02-at-12.05.43.jpeg
END:VEVENT
BEGIN:VEVENT
DTSTART;TZID=Europe/Zurich:20290809T183000
DTEND;TZID=Europe/Zurich:20290809T220000
DTSTAMP:20260421T151533
CREATED:20250529T185554Z
LAST-MODIFIED:20250603T055139Z
UID:10002515-1880994600-1881007200@maison-matrice.org
SUMMARY:Karaocrêpes
DESCRIPTION:Soirée Crêpes Sarrasin + Karaoke
URL:https://maison-matrice.org/event/karaocrepes/2029-08-09/
ATTACH;FMTTYPE=image/jpeg:https://maison-matrice.org/wp-content/uploads/2025/05/PHOTO-2025-06-02-12-04-58-e1748929851282.jpg
END:VEVENT
BEGIN:VEVENT
DTSTART;TZID=Europe/Zurich:20290813T183000
DTEND;TZID=Europe/Zurich:20290813T220000
DTSTAMP:20260421T151533
CREATED:20250603T055613Z
LAST-MODIFIED:20250603T055806Z
UID:10002785-1881340200-1881352800@maison-matrice.org
SUMMARY:Soirée Tartistique
DESCRIPTION:On mange des tartes et on dessine/bricole/papote à la Maison-Matrice
URL:https://maison-matrice.org/event/soiree-tartistique/2029-08-13/
CATEGORIES:atelier,talk-talk
ATTACH;FMTTYPE=image/jpeg:https://maison-matrice.org/wp-content/uploads/2025/06/WhatsApp-Image-2025-06-02-at-12.05.43.jpeg
END:VEVENT
BEGIN:VEVENT
DTSTART;TZID=Europe/Zurich:20290816T183000
DTEND;TZID=Europe/Zurich:20290816T220000
DTSTAMP:20260421T151533
CREATED:20250529T185554Z
LAST-MODIFIED:20250603T055139Z
UID:10002516-1881599400-1881612000@maison-matrice.org
SUMMARY:Karaocrêpes
DESCRIPTION:Soirée Crêpes Sarrasin + Karaoke
URL:https://maison-matrice.org/event/karaocrepes/2029-08-16/
ATTACH;FMTTYPE=image/jpeg:https://maison-matrice.org/wp-content/uploads/2025/05/PHOTO-2025-06-02-12-04-58-e1748929851282.jpg
END:VEVENT
BEGIN:VEVENT
DTSTART;TZID=Europe/Zurich:20290820T183000
DTEND;TZID=Europe/Zurich:20290820T220000
DTSTAMP:20260421T151533
CREATED:20250603T055613Z
LAST-MODIFIED:20250603T055806Z
UID:10002786-1881945000-1881957600@maison-matrice.org
SUMMARY:Soirée Tartistique
DESCRIPTION:On mange des tartes et on dessine/bricole/papote à la Maison-Matrice
URL:https://maison-matrice.org/event/soiree-tartistique/2029-08-20/
CATEGORIES:atelier,talk-talk
ATTACH;FMTTYPE=image/jpeg:https://maison-matrice.org/wp-content/uploads/2025/06/WhatsApp-Image-2025-06-02-at-12.05.43.jpeg
END:VEVENT
BEGIN:VEVENT
DTSTART;TZID=Europe/Zurich:20290823T183000
DTEND;TZID=Europe/Zurich:20290823T220000
DTSTAMP:20260421T151533
CREATED:20250529T185554Z
LAST-MODIFIED:20250603T055139Z
UID:10002517-1882204200-1882216800@maison-matrice.org
SUMMARY:Karaocrêpes
DESCRIPTION:Soirée Crêpes Sarrasin + Karaoke
URL:https://maison-matrice.org/event/karaocrepes/2029-08-23/
ATTACH;FMTTYPE=image/jpeg:https://maison-matrice.org/wp-content/uploads/2025/05/PHOTO-2025-06-02-12-04-58-e1748929851282.jpg
END:VEVENT
BEGIN:VEVENT
DTSTART;TZID=Europe/Zurich:20290827T183000
DTEND;TZID=Europe/Zurich:20290827T220000
DTSTAMP:20260421T151533
CREATED:20250603T055613Z
LAST-MODIFIED:20250603T055806Z
UID:10002787-1882549800-1882562400@maison-matrice.org
SUMMARY:Soirée Tartistique
DESCRIPTION:On mange des tartes et on dessine/bricole/papote à la Maison-Matrice
URL:https://maison-matrice.org/event/soiree-tartistique/2029-08-27/
CATEGORIES:atelier,talk-talk
ATTACH;FMTTYPE=image/jpeg:https://maison-matrice.org/wp-content/uploads/2025/06/WhatsApp-Image-2025-06-02-at-12.05.43.jpeg
END:VEVENT
BEGIN:VEVENT
DTSTART;TZID=Europe/Zurich:20290830T183000
DTEND;TZID=Europe/Zurich:20290830T220000
DTSTAMP:20260421T151533
CREATED:20250529T185554Z
LAST-MODIFIED:20250603T055139Z
UID:10002518-1882809000-1882821600@maison-matrice.org
SUMMARY:Karaocrêpes
DESCRIPTION:Soirée Crêpes Sarrasin + Karaoke
URL:https://maison-matrice.org/event/karaocrepes/2029-08-30/
ATTACH;FMTTYPE=image/jpeg:https://maison-matrice.org/wp-content/uploads/2025/05/PHOTO-2025-06-02-12-04-58-e1748929851282.jpg
END:VEVENT
END:VCALENDAR