BEGIN:VCALENDAR
VERSION:2.0
PRODID:-//la Maison-Matrice - ECPv6.15.20//NONSGML v1.0//EN
CALSCALE:GREGORIAN
METHOD:PUBLISH
X-ORIGINAL-URL:https://maison-matrice.org
X-WR-CALDESC:Évènements pour la Maison-Matrice
REFRESH-INTERVAL;VALUE=DURATION:PT1H
X-Robots-Tag:noindex
X-PUBLISHED-TTL:PT1H
BEGIN:VTIMEZONE
TZID:Europe/Zurich
BEGIN:DAYLIGHT
TZOFFSETFROM:+0100
TZOFFSETTO:+0200
TZNAME:CEST
DTSTART:20280326T010000
END:DAYLIGHT
BEGIN:STANDARD
TZOFFSETFROM:+0200
TZOFFSETTO:+0100
TZNAME:CET
DTSTART:20281029T010000
END:STANDARD
BEGIN:DAYLIGHT
TZOFFSETFROM:+0100
TZOFFSETTO:+0200
TZNAME:CEST
DTSTART:20290325T010000
END:DAYLIGHT
BEGIN:STANDARD
TZOFFSETFROM:+0200
TZOFFSETTO:+0100
TZNAME:CET
DTSTART:20291028T010000
END:STANDARD
BEGIN:DAYLIGHT
TZOFFSETFROM:+0100
TZOFFSETTO:+0200
TZNAME:CEST
DTSTART:20300331T010000
END:DAYLIGHT
BEGIN:STANDARD
TZOFFSETFROM:+0200
TZOFFSETTO:+0100
TZNAME:CET
DTSTART:20301027T010000
END:STANDARD
END:VTIMEZONE
BEGIN:VEVENT
DTSTART;TZID=Europe/Zurich:20291001T183000
DTEND;TZID=Europe/Zurich:20291001T220000
DTSTAMP:20260421T182910
CREATED:20250603T055613Z
LAST-MODIFIED:20250603T055806Z
UID:10002792-1885573800-1885586400@maison-matrice.org
SUMMARY:Soirée Tartistique
DESCRIPTION:On mange des tartes et on dessine/bricole/papote à la Maison-Matrice
URL:https://maison-matrice.org/event/soiree-tartistique/2029-10-01/
CATEGORIES:atelier,talk-talk
ATTACH;FMTTYPE=image/jpeg:https://maison-matrice.org/wp-content/uploads/2025/06/WhatsApp-Image-2025-06-02-at-12.05.43.jpeg
END:VEVENT
BEGIN:VEVENT
DTSTART;TZID=Europe/Zurich:20291004T183000
DTEND;TZID=Europe/Zurich:20291004T220000
DTSTAMP:20260421T182910
CREATED:20250529T185554Z
LAST-MODIFIED:20250603T055139Z
UID:10002523-1885833000-1885845600@maison-matrice.org
SUMMARY:Karaocrêpes
DESCRIPTION:Soirée Crêpes Sarrasin + Karaoke
URL:https://maison-matrice.org/event/karaocrepes/2029-10-04/
ATTACH;FMTTYPE=image/jpeg:https://maison-matrice.org/wp-content/uploads/2025/05/PHOTO-2025-06-02-12-04-58-e1748929851282.jpg
END:VEVENT
BEGIN:VEVENT
DTSTART;TZID=Europe/Zurich:20291008T183000
DTEND;TZID=Europe/Zurich:20291008T220000
DTSTAMP:20260421T182910
CREATED:20250603T055613Z
LAST-MODIFIED:20250603T055806Z
UID:10002793-1886178600-1886191200@maison-matrice.org
SUMMARY:Soirée Tartistique
DESCRIPTION:On mange des tartes et on dessine/bricole/papote à la Maison-Matrice
URL:https://maison-matrice.org/event/soiree-tartistique/2029-10-08/
CATEGORIES:atelier,talk-talk
ATTACH;FMTTYPE=image/jpeg:https://maison-matrice.org/wp-content/uploads/2025/06/WhatsApp-Image-2025-06-02-at-12.05.43.jpeg
END:VEVENT
BEGIN:VEVENT
DTSTART;TZID=Europe/Zurich:20291011T183000
DTEND;TZID=Europe/Zurich:20291011T220000
DTSTAMP:20260421T182910
CREATED:20250529T185554Z
LAST-MODIFIED:20250603T055139Z
UID:10002524-1886437800-1886450400@maison-matrice.org
SUMMARY:Karaocrêpes
DESCRIPTION:Soirée Crêpes Sarrasin + Karaoke
URL:https://maison-matrice.org/event/karaocrepes/2029-10-11/
ATTACH;FMTTYPE=image/jpeg:https://maison-matrice.org/wp-content/uploads/2025/05/PHOTO-2025-06-02-12-04-58-e1748929851282.jpg
END:VEVENT
BEGIN:VEVENT
DTSTART;TZID=Europe/Zurich:20291015T183000
DTEND;TZID=Europe/Zurich:20291015T220000
DTSTAMP:20260421T182910
CREATED:20250603T055613Z
LAST-MODIFIED:20250603T055806Z
UID:10002794-1886783400-1886796000@maison-matrice.org
SUMMARY:Soirée Tartistique
DESCRIPTION:On mange des tartes et on dessine/bricole/papote à la Maison-Matrice
URL:https://maison-matrice.org/event/soiree-tartistique/2029-10-15/
CATEGORIES:atelier,talk-talk
ATTACH;FMTTYPE=image/jpeg:https://maison-matrice.org/wp-content/uploads/2025/06/WhatsApp-Image-2025-06-02-at-12.05.43.jpeg
END:VEVENT
BEGIN:VEVENT
DTSTART;TZID=Europe/Zurich:20291018T183000
DTEND;TZID=Europe/Zurich:20291018T220000
DTSTAMP:20260421T182910
CREATED:20250529T185554Z
LAST-MODIFIED:20250603T055139Z
UID:10002525-1887042600-1887055200@maison-matrice.org
SUMMARY:Karaocrêpes
DESCRIPTION:Soirée Crêpes Sarrasin + Karaoke
URL:https://maison-matrice.org/event/karaocrepes/2029-10-18/
ATTACH;FMTTYPE=image/jpeg:https://maison-matrice.org/wp-content/uploads/2025/05/PHOTO-2025-06-02-12-04-58-e1748929851282.jpg
END:VEVENT
BEGIN:VEVENT
DTSTART;TZID=Europe/Zurich:20291022T183000
DTEND;TZID=Europe/Zurich:20291022T220000
DTSTAMP:20260421T182910
CREATED:20250603T055613Z
LAST-MODIFIED:20250603T055806Z
UID:10002795-1887388200-1887400800@maison-matrice.org
SUMMARY:Soirée Tartistique
DESCRIPTION:On mange des tartes et on dessine/bricole/papote à la Maison-Matrice
URL:https://maison-matrice.org/event/soiree-tartistique/2029-10-22/
CATEGORIES:atelier,talk-talk
ATTACH;FMTTYPE=image/jpeg:https://maison-matrice.org/wp-content/uploads/2025/06/WhatsApp-Image-2025-06-02-at-12.05.43.jpeg
END:VEVENT
BEGIN:VEVENT
DTSTART;TZID=Europe/Zurich:20291025T183000
DTEND;TZID=Europe/Zurich:20291025T220000
DTSTAMP:20260421T182910
CREATED:20250529T185554Z
LAST-MODIFIED:20250603T055139Z
UID:10002526-1887647400-1887660000@maison-matrice.org
SUMMARY:Karaocrêpes
DESCRIPTION:Soirée Crêpes Sarrasin + Karaoke
URL:https://maison-matrice.org/event/karaocrepes/2029-10-25/
ATTACH;FMTTYPE=image/jpeg:https://maison-matrice.org/wp-content/uploads/2025/05/PHOTO-2025-06-02-12-04-58-e1748929851282.jpg
END:VEVENT
BEGIN:VEVENT
DTSTART;TZID=Europe/Zurich:20291029T183000
DTEND;TZID=Europe/Zurich:20291029T220000
DTSTAMP:20260421T182910
CREATED:20250603T055613Z
LAST-MODIFIED:20250603T055806Z
UID:10002796-1887993000-1888005600@maison-matrice.org
SUMMARY:Soirée Tartistique
DESCRIPTION:On mange des tartes et on dessine/bricole/papote à la Maison-Matrice
URL:https://maison-matrice.org/event/soiree-tartistique/2029-10-29/
CATEGORIES:atelier,talk-talk
ATTACH;FMTTYPE=image/jpeg:https://maison-matrice.org/wp-content/uploads/2025/06/WhatsApp-Image-2025-06-02-at-12.05.43.jpeg
END:VEVENT
END:VCALENDAR