BEGIN:VCALENDAR
VERSION:2.0
PRODID:-//la Maison-Matrice - ECPv6.15.20//NONSGML v1.0//EN
CALSCALE:GREGORIAN
METHOD:PUBLISH
X-ORIGINAL-URL:https://maison-matrice.org
X-WR-CALDESC:Évènements pour la Maison-Matrice
REFRESH-INTERVAL;VALUE=DURATION:PT1H
X-Robots-Tag:noindex
X-PUBLISHED-TTL:PT1H
BEGIN:VTIMEZONE
TZID:Europe/Zurich
BEGIN:DAYLIGHT
TZOFFSETFROM:+0100
TZOFFSETTO:+0200
TZNAME:CEST
DTSTART:20290325T010000
END:DAYLIGHT
BEGIN:STANDARD
TZOFFSETFROM:+0200
TZOFFSETTO:+0100
TZNAME:CET
DTSTART:20291028T010000
END:STANDARD
BEGIN:DAYLIGHT
TZOFFSETFROM:+0100
TZOFFSETTO:+0200
TZNAME:CEST
DTSTART:20300331T010000
END:DAYLIGHT
BEGIN:STANDARD
TZOFFSETFROM:+0200
TZOFFSETTO:+0100
TZNAME:CET
DTSTART:20301027T010000
END:STANDARD
BEGIN:DAYLIGHT
TZOFFSETFROM:+0100
TZOFFSETTO:+0200
TZNAME:CEST
DTSTART:20310330T010000
END:DAYLIGHT
BEGIN:STANDARD
TZOFFSETFROM:+0200
TZOFFSETTO:+0100
TZNAME:CET
DTSTART:20311026T010000
END:STANDARD
END:VTIMEZONE
BEGIN:VEVENT
DTSTART;TZID=Europe/Zurich:20300204T183000
DTEND;TZID=Europe/Zurich:20300204T220000
DTSTAMP:20260423T121109
CREATED:20250603T055613Z
LAST-MODIFIED:20250603T055806Z
UID:10002810-1896460200-1896472800@maison-matrice.org
SUMMARY:Soirée Tartistique
DESCRIPTION:On mange des tartes et on dessine/bricole/papote à la Maison-Matrice
URL:https://maison-matrice.org/event/soiree-tartistique/2030-02-04/
CATEGORIES:atelier,talk-talk
ATTACH;FMTTYPE=image/jpeg:https://maison-matrice.org/wp-content/uploads/2025/06/WhatsApp-Image-2025-06-02-at-12.05.43.jpeg
END:VEVENT
BEGIN:VEVENT
DTSTART;TZID=Europe/Zurich:20300207T183000
DTEND;TZID=Europe/Zurich:20300207T220000
DTSTAMP:20260423T121109
CREATED:20250529T185554Z
LAST-MODIFIED:20250603T055139Z
UID:10002541-1896719400-1896732000@maison-matrice.org
SUMMARY:Karaocrêpes
DESCRIPTION:Soirée Crêpes Sarrasin + Karaoke
URL:https://maison-matrice.org/event/karaocrepes/2030-02-07/
ATTACH;FMTTYPE=image/jpeg:https://maison-matrice.org/wp-content/uploads/2025/05/PHOTO-2025-06-02-12-04-58-e1748929851282.jpg
END:VEVENT
BEGIN:VEVENT
DTSTART;TZID=Europe/Zurich:20300211T183000
DTEND;TZID=Europe/Zurich:20300211T220000
DTSTAMP:20260423T121109
CREATED:20250603T055613Z
LAST-MODIFIED:20250603T055806Z
UID:10002811-1897065000-1897077600@maison-matrice.org
SUMMARY:Soirée Tartistique
DESCRIPTION:On mange des tartes et on dessine/bricole/papote à la Maison-Matrice
URL:https://maison-matrice.org/event/soiree-tartistique/2030-02-11/
CATEGORIES:atelier,talk-talk
ATTACH;FMTTYPE=image/jpeg:https://maison-matrice.org/wp-content/uploads/2025/06/WhatsApp-Image-2025-06-02-at-12.05.43.jpeg
END:VEVENT
BEGIN:VEVENT
DTSTART;TZID=Europe/Zurich:20300214T183000
DTEND;TZID=Europe/Zurich:20300214T220000
DTSTAMP:20260423T121109
CREATED:20250529T185554Z
LAST-MODIFIED:20250603T055139Z
UID:10002542-1897324200-1897336800@maison-matrice.org
SUMMARY:Karaocrêpes
DESCRIPTION:Soirée Crêpes Sarrasin + Karaoke
URL:https://maison-matrice.org/event/karaocrepes/2030-02-14/
ATTACH;FMTTYPE=image/jpeg:https://maison-matrice.org/wp-content/uploads/2025/05/PHOTO-2025-06-02-12-04-58-e1748929851282.jpg
END:VEVENT
BEGIN:VEVENT
DTSTART;TZID=Europe/Zurich:20300218T183000
DTEND;TZID=Europe/Zurich:20300218T220000
DTSTAMP:20260423T121109
CREATED:20250603T055613Z
LAST-MODIFIED:20250603T055806Z
UID:10002812-1897669800-1897682400@maison-matrice.org
SUMMARY:Soirée Tartistique
DESCRIPTION:On mange des tartes et on dessine/bricole/papote à la Maison-Matrice
URL:https://maison-matrice.org/event/soiree-tartistique/2030-02-18/
CATEGORIES:atelier,talk-talk
ATTACH;FMTTYPE=image/jpeg:https://maison-matrice.org/wp-content/uploads/2025/06/WhatsApp-Image-2025-06-02-at-12.05.43.jpeg
END:VEVENT
BEGIN:VEVENT
DTSTART;TZID=Europe/Zurich:20300221T183000
DTEND;TZID=Europe/Zurich:20300221T220000
DTSTAMP:20260423T121109
CREATED:20250529T185554Z
LAST-MODIFIED:20250603T055139Z
UID:10002543-1897929000-1897941600@maison-matrice.org
SUMMARY:Karaocrêpes
DESCRIPTION:Soirée Crêpes Sarrasin + Karaoke
URL:https://maison-matrice.org/event/karaocrepes/2030-02-21/
ATTACH;FMTTYPE=image/jpeg:https://maison-matrice.org/wp-content/uploads/2025/05/PHOTO-2025-06-02-12-04-58-e1748929851282.jpg
END:VEVENT
BEGIN:VEVENT
DTSTART;TZID=Europe/Zurich:20300225T183000
DTEND;TZID=Europe/Zurich:20300225T220000
DTSTAMP:20260423T121109
CREATED:20250603T055613Z
LAST-MODIFIED:20250603T055806Z
UID:10002813-1898274600-1898287200@maison-matrice.org
SUMMARY:Soirée Tartistique
DESCRIPTION:On mange des tartes et on dessine/bricole/papote à la Maison-Matrice
URL:https://maison-matrice.org/event/soiree-tartistique/2030-02-25/
CATEGORIES:atelier,talk-talk
ATTACH;FMTTYPE=image/jpeg:https://maison-matrice.org/wp-content/uploads/2025/06/WhatsApp-Image-2025-06-02-at-12.05.43.jpeg
END:VEVENT
BEGIN:VEVENT
DTSTART;TZID=Europe/Zurich:20300228T183000
DTEND;TZID=Europe/Zurich:20300228T220000
DTSTAMP:20260423T121109
CREATED:20250529T185554Z
LAST-MODIFIED:20250603T055139Z
UID:10002544-1898533800-1898546400@maison-matrice.org
SUMMARY:Karaocrêpes
DESCRIPTION:Soirée Crêpes Sarrasin + Karaoke
URL:https://maison-matrice.org/event/karaocrepes/2030-02-28/
ATTACH;FMTTYPE=image/jpeg:https://maison-matrice.org/wp-content/uploads/2025/05/PHOTO-2025-06-02-12-04-58-e1748929851282.jpg
END:VEVENT
END:VCALENDAR